BEGIN:VCALENDAR
VERSION:2.0
PRODID:-//wp-events-plugin.com//7.2.3.1//EN
TZID:Asia/Tokyo
X-WR-TIMEZONE:Asia/Tokyo
BEGIN:VEVENT
UID:2@hac-coworking.co.jp
DTSTART;TZID=Asia/Tokyo:20221203T130000
DTEND;TZID=Asia/Tokyo:20221203T153000
DTSTAMP:20230511T101031Z
URL:https://hac-coworking.co.jp/events/bread-making/
SUMMARY:【第2回】天然酵母パン作り体験
DESCRIPTION:
END:VEVENT
BEGIN:VTIMEZONE
TZID:Asia/Tokyo
X-LIC-LOCATION:Asia/Tokyo
BEGIN:STANDARD
DTSTART:20211203T130000
TZOFFSETFROM:+0900
TZOFFSETTO:+0900
TZNAME:JST
END:STANDARD
END:VTIMEZONE
END:VCALENDAR